BEGIN:VCALENDAR
VERSION:2.0
PRODID:-//Linebacker Prototype - ECPv6.15.20//NONSGML v1.0//EN
CALSCALE:GREGORIAN
METHOD:PUBLISH
X-WR-CALNAME:Linebacker Prototype
X-ORIGINAL-URL:https://linebackerprototype.com/fr/
X-WR-CALDESC:Évènements pour Linebacker Prototype
REFRESH-INTERVAL;VALUE=DURATION:PT1H
X-Robots-Tag:noindex
X-PUBLISHED-TTL:PT1H
BEGIN:VTIMEZONE
TZID:UTC
BEGIN:STANDARD
TZOFFSETFROM:+0000
TZOFFSETTO:+0000
TZNAME:UTC
DTSTART:20240101T000000
END:STANDARD
END:VTIMEZONE
BEGIN:VEVENT
DTSTART;VALUE=DATE:20250421
DTEND;VALUE=DATE:20250422
DTSTAMP:20260420T153947
CREATED:20250322T193849Z
LAST-MODIFIED:20250322T193849Z
UID:4577-1745193600-1745279999@linebackerprototype.com
SUMMARY:21 avril : Varennes - Salon d'évaluation spécifique à un poste
DESCRIPTION:Linebacker Prototype invite les athlètes LB\, RB\, OL et DL à une vitrine d’évaluation spécialisée à Varennes. Cet événement offre une exposition directe aux dépisteurs du cégep et de l’université par l’entremise de :  \n\nTests sportifs standardisés.\nAnalyse approfondie des techniques.\nExercices compétitifs 1 contre 1.\nDes données complètes sur les performances sont distribuées aux recruteurs présents.\n\n50 places par poste. Inscrivez-vous dès maintenant pour être vu !
URL:https://linebackerprototype.com/fr/camp/21-avril-varennes-salon-devaluation-specifique-a-un-poste/
CATEGORIES:Camp
ATTACH;FMTTYPE=image/jpeg:https://linebackerprototype.com/wp-content/uploads/2025/03/IMG_4199.jpg
END:VEVENT
END:VCALENDAR