BEGIN:VCALENDAR
VERSION:2.0
PRODID:-//Linebacker Prototype - ECPv6.15.20//NONSGML v1.0//EN
CALSCALE:GREGORIAN
METHOD:PUBLISH
X-ORIGINAL-URL:https://linebackerprototype.com/fr/
X-WR-CALDESC:Évènements pour Linebacker Prototype
REFRESH-INTERVAL;VALUE=DURATION:PT1H
X-Robots-Tag:noindex
X-PUBLISHED-TTL:PT1H
BEGIN:VTIMEZONE
TZID:UTC
BEGIN:STANDARD
TZOFFSETFROM:+0000
TZOFFSETTO:+0000
TZNAME:UTC
DTSTART:20230101T000000
END:STANDARD
END:VTIMEZONE
BEGIN:VEVENT
DTSTART;TZID=UTC:20240401T140000
DTEND;TZID=UTC:20240401T170000
DTSTAMP:20260422T035612
CREATED:20240131T204837Z
LAST-MODIFIED:20240131T204837Z
UID:4017-1711980000-1711990800@linebackerprototype.com
SUMMARY:LBPA - Vitrine
DESCRIPTION:Linebacker Prototype est heureux de présenter le premier LB1 Showcase\, dédié à la promotion des Linebackers dans la province de Québec. \nCet événement s’adresse exclusivement aux Linebackers des niveaux secondaire (3/4/5) et cégep. \nLa vitrine LB1 vise à atteindre trois objectifs principaux : \n\nExposition: les participants effectuent des exercices et des tests précis en présence de recruteurs. Ils ont ainsi l’occasion de montrer leurs compétences\, leurs capacités et leurs qualités athlétiques\, ce qui leur permet d’asseoir leur réputation et leur visibilité. En outre\, il s’agit d’une plate-forme précieuse qui permet aux joueurs d’évaluer leurs progrès et de se comparer à leurs pairs.  \nClassement des joueurs et réseau LB: LB1 générera des classements pour les Linebackers dans chaque catégorie (High School et Cegep). Linebacker Prototype créera un profil pour chaque joueur\, facilitant la promotion et les connexions avec les recruteurs. Les joueurs seront rigoureusement évalués sur la base de divers critères\, y compris les films et les bandes de mise en valeur\, les mesures des tests\, la performance pendant la vitrine et les commentaires des entraîneurs. Les classements seront divisés en deux catégories : les meilleurs défenseurs dans le secondaire 3-4-5 et les meilleurs défenseurs dans le cégep.   \nSélection de l’équipe de voyage: Après la présentation\, la deuxième phase consistera à inviter les meilleurs espoirs à une séance d’entraînement privée (les détails seront annoncés ultérieurement). Les joueurs auront ainsi la possibilité de rejoindre l’équipe de voyage pour la saison d’été à venir. \n\nDétails de l’événement : \n\nDate : Lundi 1er avril\nHeure : 14h00 – 17h00\nLieu : Centre Multisport Varennes (200 Rue Jean Coutu\, Varennes\, QC\, J3X 0E1)\n\nCe qu’il faut apporter : Les participants doivent apporter des crampons\, des gants et des collants noirs. \nNous vous invitons cordialement à participer au LB1 Showcase et à démontrer votre talent et votre dévouement en tant que Linebacker au Québec. \n 
URL:https://linebackerprototype.com/fr/camp/lbpa-vitrine/
LOCATION:Centre Multisports Régional\, 200\, rue Jean Coutu\, Varennes\, Québec\, J3X 0E1\, Canada
ATTACH;FMTTYPE=image/jpeg:https://linebackerprototype.com/wp-content/uploads/2024/01/Sans-titre-1-1.jpeg
END:VEVENT
BEGIN:VEVENT
DTSTART;VALUE=DATE:20240405
DTEND;VALUE=DATE:20240408
DTSTAMP:20260422T035612
CREATED:20240131T202602Z
LAST-MODIFIED:20240131T202602Z
UID:4019-1712275200-1712534399@linebackerprototype.com
SUMMARY:LBPA - Camp LB/RB
DESCRIPTION:🏈 Aperçu : Rejoignez Linebacker Prototype et la Running Back Academy pour un camp de développement inégalé de 3 jours\, dédié à sculpter des linebackers et des running backs d’élite. Du 5 au 7 avril 2024\, saisissez l’opportunité d’affiner vos compétences\, d’acquérir des outils essentiels et de vous immerger dans l’expertise des meilleurs entraîneurs et joueurs professionnels. Objectifs : Notre mission est claire : permettre aux linebackers et aux running backs de développer leur art. Nous nous engageons à offrir une expérience unique aux jeunes joueurs de football du Québec\, en favorisant leur développement sur le terrain et en dehors. Où et quand : 📅 Date : 5 avril – 7 avril 2024 📍 Lieu : Collège Bourget  \nÀ quoi s’attendre ? \n\nEntraînement d’élite : apprenez des meilleurs\, car des entraîneurs de premier plan et des joueurs professionnels de tout le pays vous guident dans le développement des compétences et la maîtrise de la stratégie.\nArtisanat : Plongez dans trois jours consacrés à l’affinement de votre métier\, à l’acquisition de connaissances et à l’élévation de votre jeu vers de nouveaux sommets.\nActivités en dehors du terrain : Au-delà du terrain\, profitez d’une expérience holistique grâce aux activités hors terrain qui favorisent la camaraderie\, le leadership et une meilleure compréhension du jeu.\nHébergement et repas : Pendant toute la durée du camp\, les joueurs seront logés et nourris\, ce qui leur permettra de vivre une expérience intense et immersive.\n\nPourquoi y participer ? Ce camp est plus qu’un simple terrain d’entraînement ; c’est l’occasion de faire partie d’une communauté qui partage votre passion pour le football. Rejoignez-nous au Collège Bourget et embarquez pour un voyage qui transcende le développement des compétences – il s’agit de construire un héritage. Réservez votre place dès maintenant pour un camp LB/RB inoubliable avec Linebacker Prototype et la Running Back Academy. 🏈🌟
URL:https://linebackerprototype.com/fr/camp/lbpa-camp-lb-rb/
LOCATION:Collège Bourget\, 65 Rue Saint-Pierre\, Rigaud\, Québec\, Rigaud QC J0P 1P0\, Canada
ATTACH;FMTTYPE=image/jpeg:https://linebackerprototype.com/wp-content/uploads/2024/01/Sans-titre-4-1.jpeg
END:VEVENT
END:VCALENDAR